View In:
ArcGIS JavaScript
ArcGIS Online Map Viewer
ArcGIS Earth
Service Description: OMM/Sample_Flow_Renderer
Name: OMM/Sample_Flow_Renderer
Description:
Single Fused Map Cache: false
Extent:
XMin: -1.5125
YMin: 36.987500000000004
XMax: 0.012499999999998623
YMax: 38.5125
Spatial Reference: 4326
(4326)
Initial Extent:
XMin: -1.5125
YMin: 36.987500000000004
XMax: 0.012499999999998623
YMax: 38.5125
Spatial Reference: 4326
(4326)
Full Extent:
XMin: -1.5125
YMin: 36.987500000000004
XMax: 0.012499999999998623
YMax: 38.5125
Spatial Reference: 4326
(4326)
Time Info:
Start Time Field: StdTime
End Time Field: StdTime
Time Extent:
[2022/02/01 00:00:00 UTC, 2022/02/28 23:00:00 UTC]
Time Reference:
N/A
Pixel Size X: 0.024999999999999977
Pixel Size Y: 0.024999999999999977
Band Count: 2
Pixel Type: F32
RasterFunction Infos: {"rasterFunctionInfos": [{
"name": "None",
"description": "",
"help": ""
}]}
Mensuration Capabilities: Basic
Has Histograms: true
Has Colormap: false
Has Multi Dimensions : true
Rendering Rule:
Min Scale: 0
Max Scale: 0
Copyright Text:
Service Data Type: esriImageServiceDataTypeVector-UV
Min Values: -15.59999942779541, -15.949999809265137
Max Values: 12.50999927520752, 10.859999656677246
Mean Values: -1.0514910870068361, -1.2020099771794928
Standard Deviation Values: 4.241599084704731, 3.3500455318012685
Object ID Field:
Fields:
None
Default Mosaic Method: Center
Allowed Mosaic Methods:
SortField:
SortValue: null
Mosaic Operator: First
Default Compression Quality: 75
Default Resampling Method: Bilinear
Max Record Count: null
Max Image Height: 4100
Max Image Width: 15000
Max Download Image Count: null
Max Mosaic Image Count: null
Allow Raster Function: true
Allow Copy: true
Allow Analysis: true
Allow Compute TiePoints: false
Supports Statistics: false
Supports Advanced Queries: false
Use StandardizedQueries: true
Raster Type Infos:
Name: Raster Dataset
Description: Compatible con todos los datasets de rĂ¡steres de ArcGIS
Help:
Has Raster Attribute Table: false
Edit Fields Info: null
Ownership Based AccessControl For Rasters: null
Child Resources:
Info
Histograms
Statistics
Key Properties
Legend
Raster Function Infos
Multidimensional Info
Slices
Supported Operations:
Export Image
Identify
Measure
Compute Histograms
Compute Statistics Histograms
Get Samples
Compute Class Statistics
Query Boundary
Compute Pixel Location
Compute Angles
Validate
Project