View In:
ArcGIS JavaScript
ArcGIS Online Map Viewer
ArcGIS Earth
Service Description: OMM/SHYFEM_CRF
Name: OMM/SHYFEM_CRF
Description:
Single Fused Map Cache: false
Extent:
XMin: -0.8605000142981897
YMin: 37.631500064420564
XMax: -0.6185000176498998
YMax: 37.861500061235056
Spatial Reference: 4326
(4326)
Initial Extent:
XMin: -0.8605000142981897
YMin: 37.631500064420564
XMax: -0.6185000176498998
YMax: 37.861500061235056
Spatial Reference: 4326
(4326)
Full Extent:
XMin: -0.8605000142981897
YMin: 37.631500064420564
XMax: -0.6185000176498998
YMax: 37.861500061235056
Spatial Reference: 4326
(4326)
Time Info:
Start Time Field: StdTime
End Time Field: StdTime
Time Extent:
[2020/10/02 12:00:00 UTC, 2022/08/31 12:00:00 UTC]
Time Reference:
N/A
Pixel Size X: 9.99999986149958E-4
Pixel Size Y: 9.999999861499639E-4
Band Count: 1
Pixel Type: F32
RasterFunction Infos: {"rasterFunctionInfos": [{
"name": "None",
"description": "Make a Raster or Raster Dataset into a Function Raster Dataset.",
"help": ""
}]}
Mensuration Capabilities: Basic
Has Histograms: true
Has Colormap: false
Has Multi Dimensions : true
Rendering Rule:
Min Scale: 0
Max Scale: 0
Copyright Text:
Service Data Type: esriImageServiceDataTypeScientific
Min Values: -0.8690000176429749
Max Values: -0.20600001513957977
Mean Values: -0.552131871656629
Standard Deviation Values: 0.0856510996416086
Object ID Field:
Fields:
None
Default Mosaic Method: Center
Allowed Mosaic Methods:
SortField:
SortValue: null
Mosaic Operator: First
Default Compression Quality: 75
Default Resampling Method: Bilinear
Max Record Count: null
Max Image Height: 4100
Max Image Width: 15000
Max Download Image Count: null
Max Mosaic Image Count: null
Allow Raster Function: true
Allow Copy: true
Allow Analysis: true
Allow Compute TiePoints: false
Supports Statistics: false
Supports Advanced Queries: false
Use StandardizedQueries: true
Raster Type Infos:
Name: Raster Dataset
Description: Compatible con todos los datasets de rĂ¡steres de ArcGIS
Help:
Has Raster Attribute Table: false
Edit Fields Info: null
Ownership Based AccessControl For Rasters: null
Child Resources:
Info
Histograms
Statistics
Key Properties
Legend
Raster Function Infos
Multidimensional Info
Slices
Supported Operations:
Export Image
Identify
Measure
Compute Histograms
Compute Statistics Histograms
Get Samples
Compute Class Statistics
Query Boundary
Compute Pixel Location
Compute Angles
Validate
Project